BEGIN:VCALENDAR
VERSION:2.0
PRODID:-//La Tastiera Magica - ECPv5.1.5//NONSGML v1.0//EN
CALSCALE:GREGORIAN
METHOD:PUBLISH
X-WR-CALNAME:La Tastiera Magica
X-ORIGINAL-URL:https://latastieramagica.at
X-WR-CALDESC:Veranstaltungen für La Tastiera Magica
BEGIN:VTIMEZONE
TZID:Europe/Vienna
BEGIN:DAYLIGHT
TZOFFSETFROM:+0100
TZOFFSETTO:+0200
TZNAME:CEST
DTSTART:20170326T010000
END:DAYLIGHT
BEGIN:STANDARD
TZOFFSETFROM:+0200
TZOFFSETTO:+0100
TZNAME:CET
DTSTART:20171029T010000
END:STANDARD
END:VTIMEZONE
BEGIN:VEVENT
DTSTART;VALUE=DATE:20170716
DTEND;VALUE=DATE:20170723
DTSTAMP:20260423T160136
CREATED:20170427T140549Z
LAST-MODIFIED:20170523T093306Z
UID:894-1500163200-1500767999@latastieramagica.at
SUMMARY:Musikwoche Traunstein
DESCRIPTION:Die ganze Welt des Akkordeons – über den Tellerrand geblickt\nZum Vormerken\nMusikwoche Traunstein\nAkkordeon – Klavier – Steirische Harmonika\nBeginn: So\, 16.07.2017 16:00 Uhr\nEnde: Sa\, 22.07.2017 17:00 Uhr\n\nVeranstaltungsort\nSt. Georgshaus\nSt. Georgstraße 2\, 3632 Bad Traunstein\nWeb: kulturverein-st-georgshaus-traunstein\nniederoesterreich.hotelwebseite.at/\nZielgruppe\nKinder\, Jugendliche und Erwachsene\nSeminargebühr\nKinder und Jugendliche bis 19 Jahre 125\,– Euro\nErwachsene 150\,– Euro\nIm Preis sind inkludiert: Solo-\, Ensemble- bzw. Orchesterunterricht\,\nKammermusik\, Notenmaterial\, ganztägige Betreuung\, Bastelmaterial\netc.\nKinder-Special\nSollte(n) Ihr(e) Kind(er) Sie bei der Musik-\nwoche ohne Unterricht begleiten wollen\, bieten wir unser\nkomplettes Betreuungs-Paket um 50\,– Euro/Kind/Woche an. \nAnmeldeschluss\n28. Mai 2017\nAnmeldung und Information\nGabriele Hofbauer-Mittermüller\nPastorstraße 20/3/65\, 1210 Wien\nT 0676/392 2009\, gabi.hofbauer@chello.at \nNähere Infos im Folder … \n
URL:https://latastieramagica.at/event/16-22-juli-2017-musikwoche-traunstein/
LOCATION:St. Georgshaus\, St. Georgstraße 2\, Bad Traunstein\, 3632\, Österreich
ATTACH;FMTTYPE=image/jpeg:https://latastieramagica.at/wp-content/uploads/2017/05/Traunstein-Cover.jpg
END:VEVENT
END:VCALENDAR