BEGIN:VCALENDAR
VERSION:2.0
PRODID:-//La Tastiera Magica - ECPv5.1.5//NONSGML v1.0//EN
CALSCALE:GREGORIAN
METHOD:PUBLISH
X-WR-CALNAME:La Tastiera Magica
X-ORIGINAL-URL:https://latastieramagica.at
X-WR-CALDESC:Veranstaltungen für La Tastiera Magica
BEGIN:VTIMEZONE
TZID:Europe/Vienna
BEGIN:DAYLIGHT
TZOFFSETFROM:+0100
TZOFFSETTO:+0200
TZNAME:CEST
DTSTART:20170326T010000
END:DAYLIGHT
BEGIN:STANDARD
TZOFFSETFROM:+0200
TZOFFSETTO:+0100
TZNAME:CET
DTSTART:20171029T010000
END:STANDARD
END:VTIMEZONE
BEGIN:VEVENT
DTSTART;TZID=Europe/Vienna:20170611T110000
DTEND;TZID=Europe/Vienna:20170611T143000
DTSTAMP:20260423T144621
CREATED:20170427T140301Z
LAST-MODIFIED:20171022T062145Z
UID:889-1497178800-1497191400@latastieramagica.at
SUMMARY:Picknick im Grünen
DESCRIPTION:Akkordeonfestival – Picknick im Grünen –\nSusanne Mislivececk von den Böheimkirchner “Swinging Accordians” ruft zum Akkordeonfestival nach Böheimkirchen in den Park.\nEs spielen fünf Akkordeon-Orchester unter Open Air: \nSwinging Accordians\,\nKnöpferlpartie\nHarmonika Club Neulengbach\nAkkordeonverein La Tastiera Magica\nMusikverein Forte \nBei Schlechtwetter findet die Veranstaltung im Festsaal Böheimkirchen in der Neustiftgasse 1 statt. \n\n
URL:https://latastieramagica.at/event/picknick-im-gruenen/
LOCATION:Im Park – Böheimkirchen\, Im Park 1\, Böheimkirchen\, 3071\, Österreich
ATTACH;FMTTYPE=image/jpeg:https://latastieramagica.at/wp-content/uploads/2017/04/Plakat.jpg
END:VEVENT
END:VCALENDAR